Workbook

Sheet 団体登録
A1: 団体登録
A3: （フリガナ）
A4: 団体名
A5: 団体事務連絡者 | B5: （フリガナ）
B6: 氏名
B7: 郵便番号
B8: 住所
B9: 電話番号
B10: PCアドレス
B11: 携帯番号
B12: 携帯アドレス
A13: その他の連絡事項
C15: に色を塗っているセルに記入して下さい。
B16: ※団体代表者と事務連絡の方が異なる場合は、代表者名を、その他の連絡事項の欄にご記入下さい。

Sheet クラスA
A1: クラスA ペア演技部門 小学生以下
A2: フリガナ | B2: =IF(団体登録!C3="","",団体登録!C3)
A3: 団体名 | B3: =IF(団体登録!C4="","",団体登録!C4)
B5: フリガナ | C5: 学年 | D5: フリガナ | E5: 学年 | F5: フリガナ
B6: 選手名① | D6: 選手名② | F6: 曲名
A7: ペア１
A9: ペア２
A11: ペア３

Sheet クラスB
A1: クラスB ペア演技部門 中学生以下
A2: フリガナ | B2: =IF(団体登録!C3="","",団体登録!C3)
A3: 団体名 | B3: =IF(団体登録!C4="","",団体登録!C4)
B5: フリガナ | C5: 学年 | D5: フリガナ | E5: 学年 | F5: フリガナ
B6: 選手名① | D6: 選手名② | F6: 曲名
A7: ペア１
A9: ペア２
A11: ペア３

Sheet クラスC
A1: クラスC ペア演技部門 高校生以上
A2: フリガナ | B2: =IF(団体登録!C3="","",団体登録!C3) | H2: ※ 大会当日の年齢を記入 ※ 中学生以下は学年を記入して下さい
A3: 団体名 | B3: =IF(団体登録!C4="","",団体登録!C4)
B5: フリガナ | C5: 年齢 | D5: 学年 | E5: フリガナ | F5: 年齢 | G5: 学年 | H5: フリガナ
B6: 選手名① | E6: 選手名② | H6: 曲名
A7: ペア１
A9: ペア２
A11: ペア３

Sheet クラスD
A1: クラスD グループ演技部門 小学生以下
A2: フリガナ | B2: =IF(団体登録!C3="","",団体登録!C3)
A3: 団体名 | B3: =IF(団体登録!C4="","",団体登録!C4)
A5: グループ１ | B5: フリガナ | I5: 人数 | K5: 名
B6: チーム名
B7: フリガナ
B8: 曲名
B9: フリガナ 氏名 | C9: 学年 | D9: フリガナ 氏名 | E9: 学年 | F9: フリガナ 氏名 | G9: 学年 | H9: フリガナ 氏名 | I9: 学年 | J9: フリガナ 氏名 | K9: 学年
A19: グループ２ | B19: フリガナ | I19: 人数 | K19: 名
B20: チーム名
B21: フリガナ
B22: 曲名
B23: フリガナ 氏名 | C23: 学年 | D23: フリガナ 氏名 | E23: 学年 | F23: フリガナ 氏名 | G23: 学年 | H23: フリガナ 氏名 | I23: 学年 | J23: フリガナ 氏名 | K23: 学年

Sheet クラスE
A1: クラスE グループ演技部門 中学生以上
A2: フリガナ | B2: =IF(団体登録!C3="","",団体登録!C3) | K2: ※ 大会当日の年齢を記入 ※ 小学生、中学生は学年を記入して下さい
A3: 団体名 | B3: =IF(団体登録!C4="","",団体登録!C4)
A5: グループ１ | B5: フリガナ | M5: 人数 | O5: 名
B6: チーム名
B7: フリガナ
B8: 曲名
B9: フリガナ 氏名 | C9: 年齢 | D9: 学年 | E9: フリガナ 氏名 | F9: 年齢 | G9: 学年 | H9: フリガナ 氏名 | I9: 年齢 | J9: 学年 | K9: フリガナ 氏名 | L9: 年齢 | M9: 学年 | N9: フリガナ 氏名 | O9: 年齢 | P9: 学年
A19: グループ２ | B19: フリガナ | M19: 人数 | O19: 名
B20: チーム名
B21: フリガナ
B22: 曲名
B23: フリガナ 氏名 | C23: 年齢 | D23: 学年 | E23: フリガナ 氏名 | F23: 年齢 | G23: 学年 | H23: フリガナ 氏名 | I23: 年齢 | J23: 学年 | K23: フリガナ 氏名 | L23: 年齢 | M23: 学年 | N23: フリガナ 氏名 | O23: 年齢 | P23: 学年

Sheet ビデオ審査表用
A1: 団体名 | B1: クラスA | H1: クラスB | N1: クラスC | T1: クラスD | X1: クラスE
B2: 番号 | C2: 合否 | D2: 名前１ | E2: 名前２ | F2: 曲名 | G2: 団出 | H2: 番号 | I2: 合否 | J2: 名前１ | K2: 名前２ | L2: 曲名 | M2: 団出 | N2: 番号 | O2: 合否 | P2: 名前１ | Q2: 名前２ | R2: 曲名 | S2: 団出 | T2: 番号 | U2: 合否 | V2: チーム名 | W2: 曲名 | X2: 番号 | Y2: 合否 | Z2: チーム名 | AA2: 曲名
A3: =IF(団体登録!$C$4="","",団体登録!$C$4) | D3: =クラスA!B8&"（"&ASC(クラスA!C7)&"）" -> （） | E3: =クラスA!D8&"（"&ASC(クラスA!E7)&"）" -> （） | F3: =クラスA!F8 -> 0 | J3: =クラスB!B8&"（"&ASC(クラスB!C7)&"）" -> （） | K3: =クラスB!D8&"（"&ASC(クラスB!E7)&"）" -> （） | L3: =クラスB!F8 -> 0 | P3: =クラスC!B8&"（"&ASC(IF(クラスC!D7="",クラスC!C7,クラスC!D7))&"）" -> （） | Q3: =クラスC!E8&"（"&ASC(IF(クラスC!G7="",クラスC!F7,クラスC!G7))&"）" -> （） | R3: =クラスC!H8 -> 0 | V3: =クラスD!C6&"（"&クラスD!J5&"）" -> （） | W3: =クラスD!C8 -> 0 | Z3: =クラスE!C6&"（"&クラスE!N5&"）" -> （） | AA3: =クラスE!C8 -> 0
A4: =IF(団体登録!$C$4="","",団体登録!$C$4) | D4: =クラスA!B10&"（"&ASC(クラスA!C9)&"）" -> （） | E4: =クラスA!D10&"（"&ASC(クラスA!E9)&"）" -> （） | F4: =クラスA!F10 -> 0 | J4: =クラスB!B10&"（"&ASC(クラスB!C9)&"）" -> （） | K4: =クラスB!D10&"（"&ASC(クラスB!E9)&"）" -> （） | L4: =クラスB!F10 -> 0 | P4: =クラスC!B10&"（"&ASC(IF(クラスC!D9="",クラスC!C9,クラスC!D9))&"）" -> （） | Q4: =クラスC!E10&"（"&ASC(IF(クラスC!G9="",クラスC!F9,クラスC!G9))&"）" -> （） | R4: =クラスC!H10 -> 0 | V4: =クラスD!C20&"（"&クラスD!J19&"）" -> （） | W4: =クラスD!C22 -> 0 | Z4: =クラスE!C20&"（"&クラスE!N19&"）" -> （） | AA4: =クラスE!C22 -> 0
A5: =IF(団体登録!$C$4="","",団体登録!$C$4) | D5: =クラスA!B12&"（"&ASC(クラスA!C11)&"）" -> （） | E5: =クラスA!D12&"（"&ASC(クラスA!E11)&"）" -> （） | F5: =クラスA!F12 -> 0 | J5: =クラスB!B12&"（"&ASC(クラスB!C11)&"）" -> （） | K5: =クラスB!D12&"（"&ASC(クラスB!E11)&"）" -> （） | L5: =クラスB!F12 -> 0 | P5: =クラスC!B12&"（"&ASC(IF(クラスC!D11="",クラスC!C11,クラスC!D11))&"）" -> （） | Q5: =クラスC!E12&"（"&ASC(IF(クラスC!G11="",クラスC!F11,クラスC!G11))&"）" -> （） | R5: =クラスC!H12 -> 0

Sheet 一覧表形式
A1: エントリー部門 | B1: 団体名 | C1: 選手名 | D1: フリガナ | E1: 学年 | F1: 曲名 | G1: フリガナ
A2: A | B2: =団体登録!$C$4 -> 0 | C2: =クラスA!B8 -> 0 | D2: =DBCS(クラスA!B7) | E2: =ASC(クラスA!C7) | F2: =クラスA!F8 -> 0 | G2: =DBCS(クラスA!F7)
A3: A | B3: =団体登録!$C$4 -> 0 | C3: =クラスA!D8 -> 0 | D3: =DBCS(クラスA!D7) | E3: =ASC(クラスA!E7) | F3: =クラスA!F8 -> 0 | G3: =DBCS(クラスA!F7)
A4: A | B4: =団体登録!$C$4 -> 0 | C4: =クラスA!B10 -> 0 | D4: =DBCS(クラスA!B9) | E4: =ASC(クラスA!C9) | F4: =クラスA!F10 -> 0 | G4: =DBCS(クラスA!F9)
A5: A | B5: =団体登録!$C$4 -> 0 | C5: =クラスA!D10 -> 0 | D5: =DBCS(クラスA!D9) | E5: =ASC(クラスA!E9) | F5: =クラスA!F10 -> 0 | G5: =DBCS(クラスA!F9)
A6: A | B6: =団体登録!$C$4 -> 0 | C6: =クラスA!B12 -> 0 | D6: =DBCS(クラスA!B11) | E6: =ASC(クラスA!C11) | F6: =クラスA!F12 -> 0 | G6: =DBCS(クラスA!F11)
A7: A | B7: =団体登録!$C$4 -> 0 | C7: =クラスA!D12 -> 0 | D7: =DBCS(クラスA!D11) | E7: =ASC(クラスA!E11) | F7: =クラスA!F12 -> 0 | G7: =DBCS(クラスA!F11)
A9: B | B9: =団体登録!$C$4 -> 0 | C9: =クラスB!B8 -> 0 | D9: =DBCS(クラスB!B7) | E9: =ASC(クラスB!C7) | F9: =クラスB!F8 -> 0 | G9: =DBCS(クラスB!F7)
A10: B | B10: =団体登録!$C$4 -> 0 | C10: =クラスB!D8 -> 0 | D10: =DBCS(クラスB!D7) | E10: =ASC(クラスB!E7) | F10: =クラスB!F8 -> 0 | G10: =DBCS(クラスB!F7)
A11: B | B11: =団体登録!$C$4 -> 0 | C11: =クラスB!B10 -> 0 | D11: =DBCS(クラスB!D9) | E11: =ASC(クラスB!C9) | F11: =クラスB!F10 -> 0 | G11: =DBCS(クラスB!F9)
A12: B | B12: =団体登録!$C$4 -> 0 | C12: =クラスB!D10 -> 0 | D12: =DBCS(クラスB!B9) | E12: =ASC(クラスB!E9) | F12: =クラスB!F10 -> 0 | G12: =DBCS(クラスB!F9)
A13: B | B13: =団体登録!$C$4 -> 0 | C13: =クラスB!B12 -> 0 | D13: =DBCS(クラスB!B11) | E13: =ASC(クラスB!C11) | F13: =クラスB!F12 -> 0 | G13: =DBCS(クラスB!F11)
A14: B | B14: =団体登録!$C$4 -> 0 | C14: =クラスB!D12 -> 0 | D14: =DBCS(クラスB!D11) | E14: =ASC(クラスB!E11) | F14: =クラスB!F12 -> 0 | G14: =DBCS(クラスB!F11)
A16: C | B16: =団体登録!$C$4 -> 0 | C16: =クラスC!B8 -> 0 | D16: =DBCS(クラスC!B7) | E16: =ASC(IF(クラスC!D7="",クラスC!C7,クラスC!D7)) | F16: =クラスC!H8 -> 0 | G16: =DBCS(クラスC!H7)
A17: C | B17: =団体登録!$C$4 -> 0 | C17: =クラスC!E8 -> 0 | D17: =DBCS(クラスC!E7) | E17: =ASC(IF(クラスC!G7="",クラスC!F7,クラスC!G7)) | F17: =クラスC!H8 -> 0 | G17: =DBCS(クラスC!H7)
A18: C | B18: =団体登録!$C$4 -> 0 | C18: =クラスC!B10 -> 0 | D18: =DBCS(クラスC!B9) | E18: =ASC(IF(クラスC!D9="",クラスC!C9,クラスC!D9)) | F18: =クラスC!H10 -> 0 | G18: =DBCS(クラスC!H9)
A19: C | B19: =団体登録!$C$4 -> 0 | C19: =クラスC!E10 -> 0 | D19: =DBCS(クラスC!E9) | E19: =ASC(IF(クラスC!G9="",クラスC!F9,クラスC!G9)) | F19: =クラスC!H10 -> 0 | G19: =DBCS(クラスC!H9)
A20: C | B20: =団体登録!$C$4 -> 0 | C20: =クラスC!B12 -> 0 | D20: =DBCS(クラスC!B11) | E20: =ASC(IF(クラスC!D11="",クラスC!C11,クラスC!D11)) | F20: =クラスC!H12 -> 0 | G20: =DBCS(クラスC!H11)
A21: C | B21: =団体登録!$C$4 -> 0 | C21: =クラスC!E12 -> 0 | D21: =DBCS(クラスC!E11) | E21: =ASC(IF(クラスC!G11="",クラスC!F11,クラスC!G11)) | F21: =クラスC!H12 -> 0 | G21: =DBCS(クラスC!H11)
A23: エントリー部門 | B23: 団体名 | C23: チーム名 | D23: フリガナ | E23: 人数 | F23: 曲名 | G23: フリガナ | H23: 選手名 | I23: フリガナ | J23: 学年
A24: D | B24: =団体登録!$C$4 -> 0 | C24: =クラスD!$C$6 -> 0 | D24: =DBCS(クラスD!$C$5) | E24: =ASC(クラスD!$J$5) | F24: =クラスD!$C$8 -> 0 | G24: =DBCS(クラスD!$C$7) | H24: =クラスD!B11 -> 0 | I24: =DBCS(クラスD!B10) | J24: =ASC(クラスD!C10)
A25: D | B25: =団体登録!$C$4 -> 0 | C25: =クラスD!$C$6 -> 0 | D25: =DBCS(クラスD!$C$5) | E25: =ASC(クラスD!$J$5) | F25: =クラスD!$C$8 -> 0 | G25: =DBCS(クラスD!$C$7) | H25: =クラスD!D11 -> 0 | I25: =DBCS(クラスD!D10) | J25: =ASC(クラスD!E10)
A26: D | B26: =団体登録!$C$4 -> 0 | C26: =クラスD!$C$6 -> 0 | D26: =DBCS(クラスD!$C$5) | E26: =ASC(クラスD!$J$5) | F26: =クラスD!$C$8 -> 0 | G26: =DBCS(クラスD!$C$7) | H26: =クラスD!F11 -> 0 | I26: =DBCS(クラスD!F10) | J26: =ASC(クラスD!G10)
A27: D | B27: =団体登録!$C$4 -> 0 | C27: =クラスD!$C$6 -> 0 | D27: =DBCS(クラスD!$C$5) | E27: =ASC(クラスD!$J$5) | F27: =クラスD!$C$8 -> 0 | G27: =DBCS(クラスD!$C$7) | H27: =クラスD!H11 -> 0 | I27: =DBCS(クラスD!H10) | J27: =ASC(クラスD!I10)
A28: D | B28: =団体登録!$C$4 -> 0 | C28: =クラスD!$C$6 -> 0 | D28: =DBCS(クラスD!$C$5) | E28: =ASC(クラスD!$J$5) | F28: =クラスD!$C$8 -> 0 | G28: =DBCS(クラスD!$C$7) | H28: =クラスD!J11 -> 0 | I28: =DBCS(クラスD!J10) | J28: =ASC(クラスD!K10)
A29: D | B29: =団体登録!$C$4 -> 0 | C29: =クラスD!$C$6 -> 0 | D29: =DBCS(クラスD!$C$5) | E29: =ASC(クラスD!$J$5) | F29: =クラスD!$C$8 -> 0 | G29: =DBCS(クラスD!$C$7) | H29: =クラスD!B13 -> 0 | I29: =DBCS(クラスD!B12) | J29: =ASC(クラスD!C12)
A30: D | B30: =団体登録!$C$4 -> 0 | C30: =クラスD!$C$6 -> 0 | D30: =DBCS(クラスD!$C$5) | E30: =ASC(クラスD!$J$5) | F30: =クラスD!$C$8 -> 0 | G30: =DBCS(クラスD!$C$7) | H30: =クラスD!D13 -> 0 | I30: =DBCS(クラスD!D12) | J30: =ASC(クラスD!E12)
A31: D | B31: =団体登録!$C$4 -> 0 | C31: =クラスD!$C$6 -> 0 | D31: =DBCS(クラスD!$C$5) | E31: =ASC(クラスD!$J$5) | F31: =クラスD!$C$8 -> 0 | G31: =DBCS(クラスD!$C$7) | H31: =クラスD!F13 -> 0 | I31: =DBCS(クラスD!F12) | J31: =ASC(クラスD!G12)
A32: D | B32: =団体登録!$C$4 -> 0 | C32: =クラスD!$C$6 -> 0 | D32: =DBCS(クラスD!$C$5) | E32: =ASC(クラスD!$J$5) | F32: =クラスD!$C$8 -> 0 | G32: =DBCS(クラスD!$C$7) | H32: =クラスD!H13 -> 0 | I32: =DBCS(クラスD!H12) | J32: =ASC(クラスD!I12)
A33: D | B33: =団体登録!$C$4 -> 0 | C33: =クラスD!$C$6 -> 0 | D33: =DBCS(クラスD!$C$5) | E33: =ASC(クラスD!$J$5) | F33: =クラスD!$C$8 -> 0 | G33: =DBCS(クラスD!$C$7) | H33: =クラスD!J13 -> 0 | I33: =DBCS(クラスD!J12) | J33: =ASC(クラスD!K12)
A34: D | B34: =団体登録!$C$4 -> 0 | C34: =クラスD!$C$6 -> 0 | D34: =DBCS(クラスD!$C$5) | E34: =ASC(クラスD!$J$5) | F34: =クラスD!$C$8 -> 0 | G34: =DBCS(クラスD!$C$7) | H34: =クラスD!B15 -> 0 | I34: =DBCS(クラスD!B14) | J34: =ASC(クラスD!C14)
A35: D | B35: =団体登録!$C$4 -> 0 | C35: =クラスD!$C$6 -> 0 | D35: =DBCS(クラスD!$C$5) | E35: =ASC(クラスD!$J$5) | F35: =クラスD!$C$8 -> 0 | G35: =DBCS(クラスD!$C$7) | H35: =クラスD!D15 -> 0 | I35: =DBCS(クラスD!D14) | J35: =ASC(クラスD!E14)
A36: D | B36: =団体登録!$C$4 -> 0 | C36: =クラスD!$C$6 -> 0 | D36: =DBCS(クラスD!$C$5) | E36: =ASC(クラスD!$J$5) | F36: =クラスD!$C$8 -> 0 | G36: =DBCS(クラスD!$C$7) | H36: =クラスD!F15 -> 0 | I36: =DBCS(クラスD!F14) | J36: =ASC(クラスD!G14)
A37: D | B37: =団体登録!$C$4 -> 0 | C37: =クラスD!$C$6 -> 0 | D37: =DBCS(クラスD!$C$5) | E37: =ASC(クラスD!$J$5) | F37: =クラスD!$C$8 -> 0 | G37: =DBCS(クラスD!$C$7) | H37: =クラスD!H15 -> 0 | I37: =DBCS(クラスD!H14) | J37: =ASC(クラスD!I14)
A38: D | B38: =団体登録!$C$4 -> 0 | C38: =クラスD!$C$6 -> 0 | D38: =DBCS(クラスD!$C$5) | E38: =ASC(クラスD!$J$5) | F38: =クラスD!$C$8 -> 0 | G38: =DBCS(クラスD!$C$7) | H38: =クラスD!J15 -> 0 | I38: =DBCS(クラスD!J14) | J38: =ASC(クラスD!K14)
A39: D | B39: =団体登録!$C$4 -> 0 | C39: =クラスD!$C$6 -> 0 | D39: =DBCS(クラスD!$C$5) | E39: =ASC(クラスD!$J$5) | F39: =クラスD!$C$8 -> 0 | G39: =DBCS(クラスD!$C$7) | H39: =クラスD!B17 -> 0 | I39: =DBCS(クラスD!B16) | J39: =ASC(クラスD!C16)
A40: D | B40: =団体登録!$C$4 -> 0 | C40: =クラスD!$C$6 -> 0 | D40: =DBCS(クラスD!$C$5) | E40: =ASC(クラスD!$J$5) | F40: =クラスD!$C$8 -> 0 | G40: =DBCS(クラスD!$C$7) | H40: =クラスD!D17 -> 0 | I40: =DBCS(クラスD!D16) | J40: =ASC(クラスD!E16)
A41: D | B41: =団体登録!$C$4 -> 0 | C41: =クラスD!$C$6 -> 0 | D41: =DBCS(クラスD!$C$5) | E41: =ASC(クラスD!$J$5) | F41: =クラスD!$C$8 -> 0 | G41: =DBCS(クラスD!$C$7) | H41: =クラスD!F17 -> 0 | I41: =DBCS(クラスD!F16) | J41: =ASC(クラスD!G16)
A42: D | B42: =団体登録!$C$4 -> 0 | C42: =クラスD!$C$6 -> 0 | D42: =DBCS(クラスD!$C$5) | E42: =ASC(クラスD!$J$5) | F42: =クラスD!$C$8 -> 0 | G42: =DBCS(クラスD!$C$7) | H42: =クラスD!H17 -> 0 | I42: =DBCS(クラスD!H16) | J42: =ASC(クラスD!I16)
A43: D | B43: =団体登録!$C$4 -> 0 | C43: =クラスD!$C$6 -> 0 | D43: =DBCS(クラスD!$C$5) | E43: =ASC(クラスD!$J$5) | F43: =クラスD!$C$8 -> 0 | G43: =DBCS(クラスD!$C$7) | H43: =クラスD!J17 -> 0 | I43: =DBCS(クラスD!J16) | J43: =ASC(クラスD!K16)
...

Sheet 団体一覧
B1: 団体名 | C1: フリガナ | D1: 代表者氏名 | E1: フリガナ | F1: 郵便番号 | G1: 住所 | H1: 電話番号 | I1: PCアドレス | J1: 携帯番号 | K1: 携帯アドレス | L1: 備考
B2: =団体登録!C4 -> 0 | C2: =DBCS(団体登録!C3) | D2: =団体登録!C6 -> 0 | E2: =DBCS(団体登録!C5) | F2: =ASC(団体登録!C7) | G2: =団体登録!C8 -> 0 | H2: =ASC(団体登録!C9) | I2: =ASC(団体登録!C10) | J2: =ASC(団体登録!C11) | K2: =ASC(団体登録!C12) | L2: =団体登録!C13 -> 0
