Workbook

Sheet 団体登録
A1: 団体登録
A3: （フリガナ）
A4: 団体名
A5: 団体事務連絡者 | B5: （フリガナ）
B6: 氏名
B7: 郵便番号
B8: 住所
B9: 電話番号
B10: PCアドレス
B11: 携帯番号
B12: 携帯アドレス
A13: その他の連絡事項
C15: に色を塗っているセルに記入して下さい。
B16: ※団体代表者と事務連絡の方が異なる場合は、代表者名を、その他の連絡事項の欄にご記入下さい。

Sheet クラスA
A1: クラスA ペア演技部門 小学生以下
A2: フリガナ | B2: =IF(団体登録!C3="","",団体登録!C3)
A3: 団体名 | B3: =IF(団体登録!C4="","",団体登録!C4)
B5: フリガナ | C5: 学年 | D5: フリガナ | E5: 学年 | F5: フリガナ
B6: 選手名① | D6: 選手名② | F6: 曲名
A7: ペア１
A9: ペア２
A11: ペア３

Sheet クラスB
A1: クラスB ペア演技部門 中学生以下
A2: フリガナ | B2: =IF(団体登録!C3="","",団体登録!C3)
A3: 団体名 | B3: =IF(団体登録!C4="","",団体登録!C4)
B5: フリガナ | C5: 学年 | D5: フリガナ | E5: 学年 | F5: フリガナ
B6: 選手名① | D6: 選手名② | F6: 曲名
A7: ペア１
A9: ペア２
A11: ペア３

Sheet クラスC
A1: クラスC ペア演技部門 高校生以上
A2: フリガナ | B2: =IF(団体登録!C3="","",団体登録!C3) | H2: ※ 大会当日の年齢を記入 ※ 中学生以下は学年を記入して下さい
A3: 団体名 | B3: =IF(団体登録!C4="","",団体登録!C4)
B5: フリガナ | C5: 年齢 | D5: 学年 | E5: フリガナ | F5: 年齢 | G5: 学年 | H5: フリガナ
B6: 選手名① | E6: 選手名② | H6: 曲名
A7: ペア１
A9: ペア２
A11: ペア３

Sheet クラスD
A1: クラスD グループ演技部門 小学生以下
A2: フリガナ | B2: =IF(団体登録!C3="","",団体登録!C3)
A3: 団体名 | B3: =IF(団体登録!C4="","",団体登録!C4)
A5: グループ１ | B5: フリガナ | I5: 人数 | K5: 名
B6: チーム名
B7: フリガナ
B8: 曲名
B9: フリガナ 氏名 | C9: 学年 | D9: フリガナ 氏名 | E9: 学年 | F9: フリガナ 氏名 | G9: 学年 | H9: フリガナ 氏名 | I9: 学年 | J9: フリガナ 氏名 | K9: 学年
A19: グループ２ | B19: フリガナ | I19: 人数 | K19: 名
B20: チーム名
B21: フリガナ
B22: 曲名
B23: フリガナ 氏名 | C23: 学年 | D23: フリガナ 氏名 | E23: 学年 | F23: フリガナ 氏名 | G23: 学年 | H23: フリガナ 氏名 | I23: 学年 | J23: フリガナ 氏名 | K23: 学年

Sheet クラスE
A1: クラスE グループ演技部門 中学生以上
A2: フリガナ | B2: =IF(団体登録!C3="","",団体登録!C3) | K2: ※ 大会当日の年齢を記入 ※ 小学生、中学生は学年を記入して下さい
A3: 団体名 | B3: =IF(団体登録!C4="","",団体登録!C4)
A5: グループ１ | B5: フリガナ | M5: 人数 | O5: 名
B6: チーム名
B7: フリガナ
B8: 曲名
B9: フリガナ 氏名 | C9: 年齢 | D9: 学年 | E9: フリガナ 氏名 | F9: 年齢 | G9: 学年 | H9: フリガナ 氏名 | I9: 年齢 | J9: 学年 | K9: フリガナ 氏名 | L9: 年齢 | M9: 学年 | N9: フリガナ 氏名 | O9: 年齢 | P9: 学年
A19: グループ２ | B19: フリガナ | M19: 人数 | O19: 名
B20: チーム名
B21: フリガナ
B22: 曲名
B23: フリガナ 氏名 | C23: 年齢 | D23: 学年 | E23: フリガナ 氏名 | F23: 年齢 | G23: 学年 | H23: フリガナ 氏名 | I23: 年齢 | J23: 学年 | K23: フリガナ 氏名 | L23: 年齢 | M23: 学年 | N23: フリガナ 氏名 | O23: 年齢 | P23: 学年

Sheet ビデオ審査表用
A1: 団体名 | B1: クラスA | H1: クラスB | N1: クラスC | T1: クラスD | X1: クラスE
B2: 番号 | C2: 合否 | D2: 名前１ | E2: 名前２ | F2: 曲名 | G2: 団出 | H2: 番号 | I2: 合否 | J2: 名前１ | K2: 名前２ | L2: 曲名 | M2: 団出 | N2: 番号 | O2: 合否 | P2: 名前１ | Q2: 名前２ | R2: 曲名 | S2: 団出 | T2: 番号 | U2: 合否 | V2: チーム名 | W2: 曲名 | X2: 番号 | Y2: 合否 | Z2: チーム名 | AA2: 曲名
A3: =IF(団体登録!$C$4="","",団体登録!$C$4) | D3: =クラスA!B8&"（"&ASC(クラスA!C7)&"）" -> （） | E3: =クラスA!D8&"（"&ASC(クラスA!E7)&"）" -> （） | F3: =クラスA!F8 -> 0 | J3: =クラスB!B8&"（"&ASC(クラスB!C7)&"）" -> （） | K3: =クラスB!D8&"（"&ASC(クラスB!E7)&"）" -> （） | L3: =クラスB!F8 -> 0 | P3: =クラスC!B8&"（"&ASC(IF(クラスC!D7="",クラスC!C7,クラスC!D7))&"）" -> （） | Q3: =クラスC!E8&"（"&ASC(IF(クラスC!G7="",クラスC!F7,クラスC!G7))&"）" -> （） | R3: =クラスC!H8 -> 0 | V3: =クラスD!C6&"（"&クラスD!J5&"）" -> （） | W3: =クラスD!C8 -> 0 | Z3: =クラスE!C6&"（"&クラスE!N5&"）" -> （） | AA3: =クラスE!C8 -> 0
A4: =IF(団体登録!$C$4="","",団体登録!$C$4) | D4: =クラスA!B10&"（"&ASC(クラスA!C9)&"）" -> （） | E4: =クラスA!D10&"（"&ASC(クラスA!E9)&"）" -> （） | F4: =クラスA!F10 -> 0 | J4: =クラスB!B10&"（"&ASC(クラスB!C9)&"）" -> （） | K4: =クラスB!D10&"（"&ASC(クラスB!E9)&"）" -> （） | L4: =クラスB!F10 -> 0 | P4: =クラスC!B10&"（"&ASC(IF(クラスC!D9="",クラスC!C9,クラスC!D9))&"）" -> （） | Q4: =クラスC!E10&"（"&ASC(IF(クラスC!G9="",クラスC!F9,クラスC!G9))&"）" -> （） | R4: =クラスC!H10 -> 0 | V4: =クラスD!C20&"（"&クラスD!J19&"）" -> （） | W4: =クラスD!C22 -> 0 | Z4: =クラスE!C20&"（"&クラスE!N19&"）" -> （） | AA4: =クラスE!C22 -> 0
A5: =IF(団体登録!$C$4="","",団体登録!$C$4) | D5: =クラスA!B12&"（"&ASC(クラスA!C11)&"）" -> （） | E5: =クラスA!D12&"（"&ASC(クラスA!E11)&"）" -> （） | F5: =クラスA!F12 -> 0 | J5: =クラスB!B12&"（"&ASC(クラスB!C11)&"）" -> （） | K5: =クラスB!D12&"（"&ASC(クラスB!E11)&"）" -> （） | L5: =クラスB!F12 -> 0 | P5: =クラスC!B12&"（"&ASC(IF(クラスC!D11="",クラスC!C11,クラスC!D11))&"）" -> （） | Q5: =クラスC!E12&"（"&ASC(IF(クラスC!G11="",クラスC!F11,クラスC!G11))&"）" -> （） | R5: =クラスC!H12 -> 0

Sheet 一覧表形式
A1: エントリー部門 | B1: 団体名 | C1: 選手名 | D1: フリガナ | E1: 学年 | F1: 曲名 | G1: フリガナ
A2: A | B2: =団体登録!$C$4 -> 0 | C2: =クラスA!B8 -> 0 | D2: =DBCS(クラスA!B7) | E2: =ASC(クラスA!C7) | F2: =クラスA!F8 -> 0 | G2: =DBCS(クラスA!F7)
A3: A | B3: =団体登録!$C$4 -> 0 | C3: =クラスA!D8 -> 0 | D3: =DBCS(クラスA!D7) | E3: =ASC(クラスA!E7) | F3: =クラスA!F8 -> 0 | G3: =DBCS(クラスA!F7)
A4: A | B4: =団体登録!$C$4 -> 0 | C4: =クラスA!B10 -> 0 | D4: =DBCS(クラスA!B9) | E4: =ASC(クラスA!C9) | F4: =クラスA!F10 -> 0 | G4: =DBCS(クラスA!F9)
A5: A | B5: =団体登録!$C$4 -> 0 | C5: =クラスA!D10 -> 0 | D5: =DBCS(クラスA!D9) | E5: =ASC(クラスA!E9) | F5: =クラスA!F10 -> 0 | G5: =DBCS(クラスA!F9)
A6: A | B6: =団体登録!$C$4 -> 0 | C6: =クラスA!B12 -> 0 | D6: =DBCS(クラスA!B11) | E6: =ASC(クラスA!C11) | F6: =クラスA!F12 -> 0 | G6: =DBCS(クラスA!F11)
A7: A | B7: =団体登録!$C$4 -> 0 | C7: =クラスA!D12 -> 0 | D7: =DBCS(クラスA!D11) | E7: =ASC(クラスA!E11) | F7: =クラスA!F12 -> 0 | G7: =DBCS(クラスA!F11)
A9: B | B9: =団体登録!$C$4 -> 0 | C9: =クラスB!B8 -> 0 | D9: =DBCS(クラスB!B7) | E9: =ASC(クラスB!C7) | F9: =クラスB!F8 -> 0 | G9: =DBCS(クラスB!F7)
A10: B | B10: =団体登録!$C$4 -> 0 | C10: =クラスB!D8 -> 0 | D10: =DBCS(クラスB!D7) | E10: =ASC(クラスB!E7) | F10: =クラスB!F8 -> 0 | G10: =DBCS(クラスB!F7)
A11: B | B11: =団体登録!$C$4 -> 0 | C11: =クラスB!B10 -> 0 | D11: =DBCS(クラスB!D9) | E11: =ASC(クラスB!C9) | F11: =クラスB!F10 -> 0 | G11: =DBCS(クラスB!F9)
A12: B | B12: =団体登録!$C$4 -> 0 | C12: =クラスB!D10 -> 0 | D12: =DBCS(クラスB!B9) | E12: =ASC(クラスB!E9) | F12: =クラスB!F10 -> 0 | G12: =DBCS(クラスB!F9)
A13: B | B13: =団体登録!$C$4 -> 0 | C13: =クラスB!B12 -> 0 | D13: =DBCS(クラスB!B11) | E13: =ASC(クラスB!C11) | F13: =クラスB!F12 -> 0 | G13: =DBCS(クラスB!F11)
A14: B | B14: =団体登録!$C$4 -> 0 | C14: =クラスB!D12 -> 0 | D14: =DBCS(クラスB!D11) | E14: =ASC(クラスB!E11) | F14: =クラスB!F12 -> 0 | G14: =DBCS(クラスB!F11)
A16: C | B16: =団体登録!$C$4 -> 0 | C16: =クラスC!B8 -> 0 | D16: =DBCS(クラスC!B7) | E16: =ASC(IF(クラスC!D7="",クラスC!C7,クラスC!D7)) | F16: =クラスC!H8 -> 0 | G16: =DBCS(クラスC!H7)
A17: C | B17: =団体登録!$C$4 -> 0 | C17: =クラスC!E8 -> 0 | D17: =DBCS(クラスC!E7) | E17: =ASC(IF(クラスC!G7="",クラスC!F7,クラスC!G7)) | F17: =クラスC!H8 -> 0 | G17: =DBCS(クラスC!H7)
A18: C | B18: =団体登録!$C$4 -> 0 | C18: =クラスC!B10 -> 0 | D18: =DBCS(クラスC!B9) | E18: =ASC(IF(クラスC!D9="",クラスC!C9,クラスC!D9)) | F18: =クラスC!H10 -> 0 | G18: =DBCS(クラスC!H9)
A19: C | B19: =団体登録!$C$4 -> 0 | C19: =クラスC!E10 -> 0 | D19: =DBCS(クラスC!E9) | E19: =ASC(IF(クラスC!G9="",クラスC!F9,クラスC!G9)) | F19: =クラスC!H10 -> 0 | G19: =DBCS(クラスC!H9)
A20: C | B20: =団体登録!$C$4 -> 0 | C20: =クラスC!B12 -> 0 | D20: =DBCS(クラスC!B11) | E20: =ASC(IF(クラスC!D11="",クラスC!C11,クラスC!D11)) | F20: =クラスC!H12 -> 0 | G20: =DBCS(クラスC!H11)
A21: C | B21: =団体登録!$C$4 -> 0 | C21: =クラスC!E12 -> 0 | D21: =DBCS(クラスC!E11) | E21: =ASC(IF(クラスC!G11="",クラスC!F11,クラスC!G11)) | F21: =クラスC!H12 -> 0 | G21: =DBCS(クラスC!H11)
A23: エントリー部門 | B23: 団体名 | C23: チーム名 | D23: フリガナ | E23: 人数 | F23: 曲名 | G23: フリガナ | H23: 選手名 | I23: フリガナ | J23: 学年
A24: D | B24: =団体登録!$C$4 -> 0 | C24: =クラスD!$C$6 -> 0 | D24: =DBCS(クラスD!$C$5) | E24: =ASC(クラスD!$J$5) | F24: =クラスD!$C$8 -> 0 | G24: =DBCS(クラスD!$C$7) | H24: =クラスD!B11 -> 0 | I24: =DBCS(クラスD!B10) | J24: =ASC(クラスD!C10)
A25: D | B25: =団体登録!$C$4 -> 0 | C25: =クラスD!$C$6 -> 0 | D25: =DBCS(クラスD!$C$5) | E25: =ASC(クラスD!$J$5) | F25: =クラスD!$C$8 -> 0 | G25: =DBCS(クラスD!$C$7) | H25: =クラスD!D11 -> 0 | I25: =DBCS(クラスD!D10) | J25: =ASC(クラスD!E10)
A26: D | B26: =団体登録!$C$4 -> 0 | C26: =クラスD!$C$6 -> 0 | D26: =DBCS(クラスD!$C$5) | E26: =ASC(クラスD!$J$5) | F26: =クラスD!$C$8 -> 0 | G26: =DBCS(クラスD!$C$7) | H26: =クラスD!F11 -> 0 | I26: =DBCS(クラスD!F10) | J26: =ASC(クラスD!G10)
A27: D | B27: =団体登録!$C$4 -> 0 | C27: =クラスD!$C$6 -> 0 | D27: =DBCS(クラスD!$C$5) | E27: =ASC(クラスD!$J$5) | F27: =クラスD!$C$8 -> 0 | G27: =DBCS(クラスD!$C$7) | H27: =クラスD!H11 -> 0 | I27: =DBCS(クラスD!H10) | J27: =ASC(クラスD!I10)
A28: D | B28: =団体登録!$C$4 -> 0 | C28: =クラスD!$C$6 -> 0 | D28: =DBCS(クラスD!$C$5) | E28: =ASC(クラスD!$J$5) | F28: =クラスD!$C$8 -> 0 | G28: =DBCS(クラスD!$C$7) | H28: =クラスD!J11 -> 0 | I28: =DBCS(クラスD!J10) | J28: =ASC(クラスD!K10)
A29: D | B29: =団体登録!$C$4 -> 0 | C29: =クラスD!$C$6 -> 0 | D29: =DBCS(クラスD!$C$5) | E29: =ASC(クラスD!$J$5) | F29: =クラスD!$C$8 -> 0 | G29: =DBCS(クラスD!$C$7) | H29: =クラスD!B13 -> 0 | I29: =DBCS(クラスD!B12) | J29: =ASC(クラスD!C12)
A30: D | B30: =団体登録!$C$4 -> 0 | C30: =クラスD!$C$6 -> 0 | D30: =DBCS(クラスD!$C$5) | E30: =ASC(クラスD!$J$5) | F30: =クラスD!$C$8 -> 0 | G30: =DBCS(クラスD!$C$7) | H30: =クラスD!D13 -> 0 | I30: =DBCS(クラスD!D12) | J30: =ASC(クラスD!E12)
A31: D | B31: =団体登録!$C$4 -> 0 | C31: =クラスD!$C$6 -> 0 | D31: =DBCS(クラスD!$C$5) | E31: =ASC(クラスD!$J$5) | F31: =クラスD!$C$8 -> 0 | G31: =DBCS(クラスD!$C$7) | H31: =クラスD!F13 -> 0 | I31: =DBCS(クラスD!F12) | J31: =ASC(クラスD!G12)
A32: D | B32: =団体登録!$C$4 -> 0 | C32: =クラスD!$C$6 -> 0 | D32: =DBCS(クラスD!$C$5) | E32: =ASC(クラスD!$J$5) | F32: =クラスD!$C$8 -> 0 | G32: =DBCS(クラスD!$C$7) | H32: =クラスD!H13 -> 0 | I32: =DBCS(クラスD!H12) | J32: =ASC(クラスD!I12)
A33: D | B33: =団体登録!$C$4 -> 0 | C33: =クラスD!$C$6 -> 0 | D33: =DBCS(クラスD!$C$5) | E33: =ASC(クラスD!$J$5) | F33: =クラスD!$C$8 -> 0 | G33: =DBCS(クラスD!$C$7) | H33: =クラスD!J13 -> 0 | I33: =DBCS(クラスD!J12) | J33: =ASC(クラスD!K12)
A34: D | B34: =団体登録!$C$4 -> 0 | C34: =クラスD!$C$6 -> 0 | D34: =DBCS(クラスD!$C$5) | E34: =ASC(クラスD!$J$5) | F34: =クラスD!$C$8 -> 0 | G34: =DBCS(クラスD!$C$7) | H34: =クラスD!B15 -> 0 | I34: =DBCS(クラスD!B14) | J34: =ASC(クラスD!C14)
A35: D | B35: =団体登録!$C$4 -> 0 | C35: =クラスD!$C$6 -> 0 | D35: =DBCS(クラスD!$C$5) | E35: =ASC(クラスD!$J$5) | F35: =クラスD!$C$8 -> 0 | G35: =DBCS(クラスD!$C$7) | H35: =クラスD!D15 -> 0 | I35: =DBCS(クラスD!D14) | J35: =ASC(クラスD!E14)
A36: D | B36: =団体登録!$C$4 -> 0 | C36: =クラスD!$C$6 -> 0 | D36: =DBCS(クラスD!$C$5) | E36: =ASC(クラスD!$J$5) | F36: =クラスD!$C$8 -> 0 | G36: =DBCS(クラスD!$C$7) | H36: =クラスD!F15 -> 0 | I36: =DBCS(クラスD!F14) | J36: =ASC(クラスD!G14)
A37: D | B37: =団体登録!$C$4 -> 0 | C37: =クラスD!$C$6 -> 0 | D37: =DBCS(クラスD!$C$5) | E37: =ASC(クラスD!$J$5) | F37: =クラスD!$C$8 -> 0 | G37: =DBCS(クラスD!$C$7) | H37: =クラスD!H15 -> 0 | I37: =DBCS(クラスD!H14) | J37: =ASC(クラスD!I14)
A38: D | B38: =団体登録!$C$4 -> 0 | C38: =クラスD!$C$6 -> 0 | D38: =DBCS(クラスD!$C$5) | E38: =ASC(クラスD!$J$5) | F38: =クラスD!$C$8 -> 0 | G38: =DBCS(クラスD!$C$7) | H38: =クラスD!J15 -> 0 | I38: =DBCS(クラスD!J14) | J38: =ASC(クラスD!K14)
A39: D | B39: =団体登録!$C$4 -> 0 | C39: =クラスD!$C$6 -> 0 | D39: =DBCS(クラスD!$C$5) | E39: =ASC(クラスD!$J$5) | F39: =クラスD!$C$8 -> 0 | G39: =DBCS(クラスD!$C$7) | H39: =クラスD!B17 -> 0 | I39: =DBCS(クラスD!B16) | J39: =ASC(クラスD!C16)
A40: D | B40: =団体登録!$C$4 -> 0 | C40: =クラスD!$C$6 -> 0 | D40: =DBCS(クラスD!$C$5) | E40: =ASC(クラスD!$J$5) | F40: =クラスD!$C$8 -> 0 | G40: =DBCS(クラスD!$C$7) | H40: =クラスD!D17 -> 0 | I40: =DBCS(クラスD!D16) | J40: =ASC(クラスD!E16)
A41: D | B41: =団体登録!$C$4 -> 0 | C41: =クラスD!$C$6 -> 0 | D41: =DBCS(クラスD!$C$5) | E41: =ASC(クラスD!$J$5) | F41: =クラスD!$C$8 -> 0 | G41: =DBCS(クラスD!$C$7) | H41: =クラスD!F17 -> 0 | I41: =DBCS(クラスD!F16) | J41: =ASC(クラスD!G16)
A42: D | B42: =団体登録!$C$4 -> 0 | C42: =クラスD!$C$6 -> 0 | D42: =DBCS(クラスD!$C$5) | E42: =ASC(クラスD!$J$5) | F42: =クラスD!$C$8 -> 0 | G42: =DBCS(クラスD!$C$7) | H42: =クラスD!H17 -> 0 | I42: =DBCS(クラスD!H16) | J42: =ASC(クラスD!I16)
A43: D | B43: =団体登録!$C$4 -> 0 | C43: =クラスD!$C$6 -> 0 | D43: =DBCS(クラスD!$C$5) | E43: =ASC(クラスD!$J$5) | F43: =クラスD!$C$8 -> 0 | G43: =DBCS(クラスD!$C$7) | H43: =クラスD!J17 -> 0 | I43: =DBCS(クラスD!J16) | J43: =ASC(クラスD!K16)
A45: D | B45: =団体登録!$C$4 -> 0 | C45: =クラスD!$C$20 -> 0 | D45: =DBCS(クラスD!$C$19) | E45: =ASC(クラスD!$J$19) | F45: =クラスD!$C$22 -> 0 | G45: =DBCS(クラスD!$C$21) | H45: =クラスD!B25 -> 0 | I45: =DBCS(クラスD!B24) | J45: =ASC(クラスD!C24)
A46: D | B46: =団体登録!$C$4 -> 0 | C46: =クラスD!$C$20 -> 0 | D46: =DBCS(クラスD!$C$19) | E46: =ASC(クラスD!$J$19) | F46: =クラスD!$C$22 -> 0 | G46: =DBCS(クラスD!$C$21) | H46: =クラスD!D25 -> 0 | I46: =DBCS(クラスD!D24) | J46: =ASC(クラスD!E24)
A47: D | B47: =団体登録!$C$4 -> 0 | C47: =クラスD!$C$20 -> 0 | D47: =DBCS(クラスD!$C$19) | E47: =ASC(クラスD!$J$19) | F47: =クラスD!$C$22 -> 0 | G47: =DBCS(クラスD!$C$21) | H47: =クラスD!F25 -> 0 | I47: =DBCS(クラスD!F24) | J47: =ASC(クラスD!G24)
A48: D | B48: =団体登録!$C$4 -> 0 | C48: =クラスD!$C$20 -> 0 | D48: =DBCS(クラスD!$C$19) | E48: =ASC(クラスD!$J$19) | F48: =クラスD!$C$22 -> 0 | G48: =DBCS(クラスD!$C$21) | H48: =クラスD!H25 -> 0 | I48: =DBCS(クラスD!H24) | J48: =ASC(クラスD!I24)
A49: D | B49: =団体登録!$C$4 -> 0 | C49: =クラスD!$C$20 -> 0 | D49: =DBCS(クラスD!$C$19) | E49: =ASC(クラスD!$J$19) | F49: =クラスD!$C$22 -> 0 | G49: =DBCS(クラスD!$C$21) | H49: =クラスD!J25 -> 0 | I49: =DBCS(クラスD!J24) | J49: =ASC(クラスD!K24)
A50: D | B50: =団体登録!$C$4 -> 0 | C50: =クラスD!$C$20 -> 0 | D50: =DBCS(クラスD!$C$19) | E50: =ASC(クラスD!$J$19) | F50: =クラスD!$C$22 -> 0 | G50: =DBCS(クラスD!$C$21) | H50: =クラスD!B27 -> 0 | I50: =DBCS(クラスD!B26) | J50: =ASC(クラスD!C26)
A51: D | B51: =団体登録!$C$4 -> 0 | C51: =クラスD!$C$20 -> 0 | D51: =DBCS(クラスD!$C$19) | E51: =ASC(クラスD!$J$19) | F51: =クラスD!$C$22 -> 0 | G51: =DBCS(クラスD!$C$21) | H51: =クラスD!D27 -> 0 | I51: =DBCS(クラスD!D26) | J51: =ASC(クラスD!E26)
A52: D | B52: =団体登録!$C$4 -> 0 | C52: =クラスD!$C$20 -> 0 | D52: =DBCS(クラスD!$C$19) | E52: =ASC(クラスD!$J$19) | F52: =クラスD!$C$22 -> 0 | G52: =DBCS(クラスD!$C$21) | H52: =クラスD!F27 -> 0 | I52: =DBCS(クラスD!F26) | J52: =ASC(クラスD!G26)
A53: D | B53: =団体登録!$C$4 -> 0 | C53: =クラスD!$C$20 -> 0 | D53: =DBCS(クラスD!$C$19) | E53: =ASC(クラスD!$J$19) | F53: =クラスD!$C$22 -> 0 | G53: =DBCS(クラスD!$C$21) | H53: =クラスD!H27 -> 0 | I53: =DBCS(クラスD!H26) | J53: =ASC(クラスD!I26)
A54: D | B54: =団体登録!$C$4 -> 0 | C54: =クラスD!$C$20 -> 0 | D54: =DBCS(クラスD!$C$19) | E54: =ASC(クラスD!$J$19) | F54: =クラスD!$C$22 -> 0 | G54: =DBCS(クラスD!$C$21) | H54: =クラスD!J27 -> 0 | I54: =DBCS(クラスD!J26) | J54: =ASC(クラスD!K26)
A55: D | B55: =団体登録!$C$4 -> 0 | C55: =クラスD!$C$20 -> 0 | D55: =DBCS(クラスD!$C$19) | E55: =ASC(クラスD!$J$19) | F55: =クラスD!$C$22 -> 0 | G55: =DBCS(クラスD!$C$21) | H55: =クラスD!B29 -> 0 | I55: =DBCS(クラスD!B28) | J55: =ASC(クラスD!C28)
A56: D | B56: =団体登録!$C$4 -> 0 | C56: =クラスD!$C$20 -> 0 | D56: =DBCS(クラスD!$C$19) | E56: =ASC(クラスD!$J$19) | F56: =クラスD!$C$22 -> 0 | G56: =DBCS(クラスD!$C$21) | H56: =クラスD!D29 -> 0 | I56: =DBCS(クラスD!D28) | J56: =ASC(クラスD!E28)
A57: D | B57: =団体登録!$C$4 -> 0 | C57: =クラスD!$C$20 -> 0 | D57: =DBCS(クラスD!$C$19) | E57: =ASC(クラスD!$J$19) | F57: =クラスD!$C$22 -> 0 | G57: =DBCS(クラスD!$C$21) | H57: =クラスD!F29 -> 0 | I57: =DBCS(クラスD!F28) | J57: =ASC(クラスD!G28)
A58: D | B58: =団体登録!$C$4 -> 0 | C58: =クラスD!$C$20 -> 0 | D58: =DBCS(クラスD!$C$19) | E58: =ASC(クラスD!$J$19) | F58: =クラスD!$C$22 -> 0 | G58: =DBCS(クラスD!$C$21) | H58: =クラスD!H29 -> 0 | I58: =DBCS(クラスD!H28) | J58: =ASC(クラスD!I28)
A59: D | B59: =団体登録!$C$4 -> 0 | C59: =クラスD!$C$20 -> 0 | D59: =DBCS(クラスD!$C$19) | E59: =ASC(クラスD!$J$19) | F59: =クラスD!$C$22 -> 0 | G59: =DBCS(クラスD!$C$21) | H59: =クラスD!J29 -> 0 | I59: =DBCS(クラスD!J28) | J59: =ASC(クラスD!K28)
A60: D | B60: =団体登録!$C$4 -> 0 | C60: =クラスD!$C$20 -> 0 | D60: =DBCS(クラスD!$C$19) | E60: =ASC(クラスD!$J$19) | F60: =クラスD!$C$22 -> 0 | G60: =DBCS(クラスD!$C$21) | H60: =クラスD!B31 -> 0 | I60: =DBCS(クラスD!B30) | J60: =ASC(クラスD!C30)
A61: D | B61: =団体登録!$C$4 -> 0 | C61: =クラスD!$C$20 -> 0 | D61: =DBCS(クラスD!$C$19) | E61: =ASC(クラスD!$J$19) | F61: =クラスD!$C$22 -> 0 | G61: =DBCS(クラスD!$C$21) | H61: =クラスD!D31 -> 0 | I61: =DBCS(クラスD!D30) | J61: =ASC(クラスD!E30)
A62: D | B62: =団体登録!$C$4 -> 0 | C62: =クラスD!$C$20 -> 0 | D62: =DBCS(クラスD!$C$19) | E62: =ASC(クラスD!$J$19) | F62: =クラスD!$C$22 -> 0 | G62: =DBCS(クラスD!$C$21) | H62: =クラスD!F31 -> 0 | I62: =DBCS(クラスD!F30) | J62: =ASC(クラスD!G30)
A63: D | B63: =団体登録!$C$4 -> 0 | C63: =クラスD!$C$20 -> 0 | D63: =DBCS(クラスD!$C$19) | E63: =ASC(クラスD!$J$19) | F63: =クラスD!$C$22 -> 0 | G63: =DBCS(クラスD!$C$21) | H63: =クラスD!H31 -> 0 | I63: =DBCS(クラスD!H30) | J63: =ASC(クラスD!I30)
A64: D | B64: =団体登録!$C$4 -> 0 | C64: =クラスD!$C$20 -> 0 | D64: =DBCS(クラスD!$C$19) | E64: =ASC(クラスD!$J$19) | F64: =クラスD!$C$22 -> 0 | G64: =DBCS(クラスD!$C$21) | H64: =クラスD!J31 -> 0 | I64: =DBCS(クラスD!J30) | J64: =ASC(クラスD!K30)
A66: E | B66: =団体登録!$C$4 -> 0 | C66: =クラスE!$C$6 -> 0 | D66: =DBCS(クラスE!$C$5) | E66: =ASC(クラスE!$N$5) | F66: =クラスE!$C$8 -> 0 | G66: =DBCS(クラスE!$C$7) | H66: =クラスE!B11 -> 0 | I66: =DBCS(クラスE!B10) | J66: =ASC(IF(クラスE!D10="",クラスE!C10,クラスE!D10))
A67: E | B67: =団体登録!$C$4 -> 0 | C67: =クラスE!$C$6 -> 0 | D67: =DBCS(クラスE!$C$5) | E67: =ASC(クラスE!$N$5) | F67: =クラスE!$C$8 -> 0 | G67: =DBCS(クラスE!$C$7) | H67: =クラスE!E11 -> 0 | I67: =DBCS(クラスE!E10) | J67: =ASC(IF(クラスE!G10="",クラスE!F10,クラスE!G10))
A68: E | B68: =団体登録!$C$4 -> 0 | C68: =クラスE!$C$6 -> 0 | D68: =DBCS(クラスE!$C$5) | E68: =ASC(クラスE!$N$5) | F68: =クラスE!$C$8 -> 0 | G68: =DBCS(クラスE!$C$7) | H68: =クラスE!H11 -> 0 | I68: =DBCS(クラスE!H10) | J68: =ASC(IF(クラスE!J10="",クラスE!I10,クラスE!J10))
A69: E | B69: =団体登録!$C$4 -> 0 | C69: =クラスE!$C$6 -> 0 | D69: =DBCS(クラスE!$C$5) | E69: =ASC(クラスE!$N$5) | F69: =クラスE!$C$8 -> 0 | G69: =DBCS(クラスE!$C$7) | H69: =クラスE!K11 -> 0 | I69: =DBCS(クラスE!K10) | J69: =ASC(IF(クラスE!M10="",クラスE!L10,クラスE!M10))
A70: E | B70: =団体登録!$C$4 -> 0 | C70: =クラスE!$C$6 -> 0 | D70: =DBCS(クラスE!$C$5) | E70: =ASC(クラスE!$N$5) | F70: =クラスE!$C$8 -> 0 | G70: =DBCS(クラスE!$C$7) | H70: =クラスE!N11 -> 0 | I70: =DBCS(クラスE!N10) | J70: =ASC(IF(クラスE!P10="",クラスE!O10,クラスE!P10))
A71: E | B71: =団体登録!$C$4 -> 0 | C71: =クラスE!$C$6 -> 0 | D71: =DBCS(クラスE!$C$5) | E71: =ASC(クラスE!$N$5) | F71: =クラスE!$C$8 -> 0 | G71: =DBCS(クラスE!$C$7) | H71: =クラスE!B13 -> 0 | I71: =DBCS(クラスE!B12) | J71: =ASC(IF(クラスE!D12="",クラスE!C12,クラスE!D12))
A72: E | B72: =団体登録!$C$4 -> 0 | C72: =クラスE!$C$6 -> 0 | D72: =DBCS(クラスE!$C$5) | E72: =ASC(クラスE!$N$5) | F72: =クラスE!$C$8 -> 0 | G72: =DBCS(クラスE!$C$7) | H72: =クラスE!E13 -> 0 | I72: =DBCS(クラスE!E12) | J72: =ASC(IF(クラスE!G12="",クラスE!F12,クラスE!G12))
A73: E | B73: =団体登録!$C$4 -> 0 | C73: =クラスE!$C$6 -> 0 | D73: =DBCS(クラスE!$C$5) | E73: =ASC(クラスE!$N$5) | F73: =クラスE!$C$8 -> 0 | G73: =DBCS(クラスE!$C$7) | H73: =クラスE!H13 -> 0 | I73: =DBCS(クラスE!H12) | J73: =ASC(IF(クラスE!J12="",クラスE!I12,クラスE!J12))
A74: E | B74: =団体登録!$C$4 -> 0 | C74: =クラスE!$C$6 -> 0 | D74: =DBCS(クラスE!$C$5) | E74: =ASC(クラスE!$N$5) | F74: =クラスE!$C$8 -> 0 | G74: =DBCS(クラスE!$C$7) | H74: =クラスE!K13 -> 0 | I74: =DBCS(クラスE!K12) | J74: =ASC(IF(クラスE!M12="",クラスE!L12,クラスE!M12))
A75: E | B75: =団体登録!$C$4 -> 0 | C75: =クラスE!$C$6 -> 0 | D75: =DBCS(クラスE!$C$5) | E75: =ASC(クラスE!$N$5) | F75: =クラスE!$C$8 -> 0 | G75: =DBCS(クラスE!$C$7) | H75: =クラスE!N13 -> 0 | I75: =DBCS(クラスE!N12) | J75: =ASC(IF(クラスE!P12="",クラスE!O12,クラスE!P12))
A76: E | B76: =団体登録!$C$4 -> 0 | C76: =クラスE!$C$6 -> 0 | D76: =DBCS(クラスE!$C$5) | E76: =ASC(クラスE!$N$5) | F76: =クラスE!$C$8 -> 0 | G76: =DBCS(クラスE!$C$7) | H76: =クラスE!B15 -> 0 | I76: =DBCS(クラスE!B14) | J76: =ASC(IF(クラスE!D14="",クラスE!C14,クラスE!D14))
A77: E | B77: =団体登録!$C$4 -> 0 | C77: =クラスE!$C$6 -> 0 | D77: =DBCS(クラスE!$C$5) | E77: =ASC(クラスE!$N$5) | F77: =クラスE!$C$8 -> 0 | G77: =DBCS(クラスE!$C$7) | H77: =クラスE!E15 -> 0 | I77: =DBCS(クラスE!E14) | J77: =ASC(IF(クラスE!G14="",クラスE!F14,クラスE!G14))
A78: E | B78: =団体登録!$C$4 -> 0 | C78: =クラスE!$C$6 -> 0 | D78: =DBCS(クラスE!$C$5) | E78: =ASC(クラスE!$N$5) | F78: =クラスE!$C$8 -> 0 | G78: =DBCS(クラスE!$C$7) | H78: =クラスE!H15 -> 0 | I78: =DBCS(クラスE!H14) | J78: =ASC(IF(クラスE!J14="",クラスE!I14,クラスE!J14))
A79: E | B79: =団体登録!$C$4 -> 0 | C79: =クラスE!$C$6 -> 0 | D79: =DBCS(クラスE!$C$5) | E79: =ASC(クラスE!$N$5) | F79: =クラスE!$C$8 -> 0 | G79: =DBCS(クラスE!$C$7) | H79: =クラスE!K15 -> 0 | I79: =DBCS(クラスE!K14) | J79: =ASC(IF(クラスE!M14="",クラスE!L14,クラスE!M14))
A80: E | B80: =団体登録!$C$4 -> 0 | C80: =クラスE!$C$6 -> 0 | D80: =DBCS(クラスE!$C$5) | E80: =ASC(クラスE!$N$5) | F80: =クラスE!$C$8 -> 0 | G80: =DBCS(クラスE!$C$7) | H80: =クラスE!N15 -> 0 | I80: =DBCS(クラスE!N14) | J80: =ASC(IF(クラスE!P14="",クラスE!O14,クラスE!P14))
A81: E | B81: =団体登録!$C$4 -> 0 | C81: =クラスE!$C$6 -> 0 | D81: =DBCS(クラスE!$C$5) | E81: =ASC(クラスE!$N$5) | F81: =クラスE!$C$8 -> 0 | G81: =DBCS(クラスE!$C$7) | H81: =クラスE!B17 -> 0 | I81: =DBCS(クラスE!B16) | J81: =ASC(IF(クラスE!D16="",クラスE!C16,クラスE!D16))
A82: E | B82: =団体登録!$C$4 -> 0 | C82: =クラスE!$C$6 -> 0 | D82: =DBCS(クラスE!$C$5) | E82: =ASC(クラスE!$N$5) | F82: =クラスE!$C$8 -> 0 | G82: =DBCS(クラスE!$C$7) | H82: =クラスE!E17 -> 0 | I82: =DBCS(クラスE!E16) | J82: =ASC(IF(クラスE!G16="",クラスE!F16,クラスE!G16))
A83: E | B83: =団体登録!$C$4 -> 0 | C83: =クラスE!$C$6 -> 0 | D83: =DBCS(クラスE!$C$5) | E83: =ASC(クラスE!$N$5) | F83: =クラスE!$C$8 -> 0 | G83: =DBCS(クラスE!$C$7) | H83: =クラスE!H17 -> 0 | I83: =DBCS(クラスE!H16) | J83: =ASC(IF(クラスE!J16="",クラスE!I16,クラスE!J16))
A84: E | B84: =団体登録!$C$4 -> 0 | C84: =クラスE!$C$6 -> 0 | D84: =DBCS(クラスE!$C$5) | E84: =ASC(クラスE!$N$5) | F84: =クラスE!$C$8 -> 0 | G84: =DBCS(クラスE!$C$7) | H84: =クラスE!K17 -> 0 | I84: =DBCS(クラスE!K16) | J84: =ASC(IF(クラスE!M16="",クラスE!L16,クラスE!M16))
A85: E | B85: =団体登録!$C$4 -> 0 | C85: =クラスE!$C$6 -> 0 | D85: =DBCS(クラスE!$C$5) | E85: =ASC(クラスE!$N$5) | F85: =クラスE!$C$8 -> 0 | G85: =DBCS(クラスE!$C$7) | H85: =クラスE!N17 -> 0 | I85: =DBCS(クラスE!N16) | J85: =ASC(IF(クラスE!P16="",クラスE!O16,クラスE!P16))
A87: E | B87: =団体登録!$C$4 -> 0 | C87: =クラスE!$C$20 -> 0 | D87: =DBCS(クラスE!$C$19) | E87: =ASC(クラスE!$N$19) | F87: =クラスE!$C$22 -> 0 | G87: =DBCS(クラスE!$C$21) | H87: =クラスE!B25 -> 0 | I87: =DBCS(クラスE!B24) | J87: =ASC(IF(クラスE!D24="",クラスE!C24,クラスE!D24))
A88: E | B88: =団体登録!$C$4 -> 0 | C88: =クラスE!$C$20 -> 0 | D88: =DBCS(クラスE!$C$19) | E88: =ASC(クラスE!$N$19) | F88: =クラスE!$C$22 -> 0 | G88: =DBCS(クラスE!$C$21) | H88: =クラスE!E25 -> 0 | I88: =DBCS(クラスE!E24) | J88: =ASC(IF(クラスE!G24="",クラスE!F24,クラスE!G24))
A89: E | B89: =団体登録!$C$4 -> 0 | C89: =クラスE!$C$20 -> 0 | D89: =DBCS(クラスE!$C$19) | E89: =ASC(クラスE!$N$19) | F89: =クラスE!$C$22 -> 0 | G89: =DBCS(クラスE!$C$21) | H89: =クラスE!H25 -> 0 | I89: =DBCS(クラスE!H24) | J89: =ASC(IF(クラスE!J24="",クラスE!I24,クラスE!J24))
A90: E | B90: =団体登録!$C$4 -> 0 | C90: =クラスE!$C$20 -> 0 | D90: =DBCS(クラスE!$C$19) | E90: =ASC(クラスE!$N$19) | F90: =クラスE!$C$22 -> 0 | G90: =DBCS(クラスE!$C$21) | H90: =クラスE!K25 -> 0 | I90: =DBCS(クラスE!K24) | J90: =ASC(IF(クラスE!M24="",クラスE!L24,クラスE!M24))
A91: E | B91: =団体登録!$C$4 -> 0 | C91: =クラスE!$C$20 -> 0 | D91: =DBCS(クラスE!$C$19) | E91: =ASC(クラスE!$N$19) | F91: =クラスE!$C$22 -> 0 | G91: =DBCS(クラスE!$C$21) | H91: =クラスE!N25 -> 0 | I91: =DBCS(クラスE!N24) | J91: =ASC(IF(クラスE!P24="",クラスE!O24,クラスE!P24))
A92: E | B92: =団体登録!$C$4 -> 0 | C92: =クラスE!$C$20 -> 0 | D92: =DBCS(クラスE!$C$19) | E92: =ASC(クラスE!$N$19) | F92: =クラスE!$C$22 -> 0 | G92: =DBCS(クラスE!$C$21) | H92: =クラスE!B27 -> 0 | I92: =DBCS(クラスE!B26) | J92: =ASC(IF(クラスE!D26="",クラスE!C26,クラスE!D26))
A93: E | B93: =団体登録!$C$4 -> 0 | C93: =クラスE!$C$20 -> 0 | D93: =DBCS(クラスE!$C$19) | E93: =ASC(クラスE!$N$19) | F93: =クラスE!$C$22 -> 0 | G93: =DBCS(クラスE!$C$21) | H93: =クラスE!E27 -> 0 | I93: =DBCS(クラスE!E26) | J93: =ASC(IF(クラスE!G26="",クラスE!F26,クラスE!G26))
A94: E | B94: =団体登録!$C$4 -> 0 | C94: =クラスE!$C$20 -> 0 | D94: =DBCS(クラスE!$C$19) | E94: =ASC(クラスE!$N$19) | F94: =クラスE!$C$22 -> 0 | G94: =DBCS(クラスE!$C$21) | H94: =クラスE!H27 -> 0 | I94: =DBCS(クラスE!H26) | J94: =ASC(IF(クラスE!J26="",クラスE!I26,クラスE!J26))
A95: E | B95: =団体登録!$C$4 -> 0 | C95: =クラスE!$C$20 -> 0 | D95: =DBCS(クラスE!$C$19) | E95: =ASC(クラスE!$N$19) | F95: =クラスE!$C$22 -> 0 | G95: =DBCS(クラスE!$C$21) | H95: =クラスE!K27 -> 0 | I95: =DBCS(クラスE!K26) | J95: =ASC(IF(クラスE!M26="",クラスE!L26,クラスE!M26))
A96: E | B96: =団体登録!$C$4 -> 0 | C96: =クラスE!$C$20 -> 0 | D96: =DBCS(クラスE!$C$19) | E96: =ASC(クラスE!$N$19) | F96: =クラスE!$C$22 -> 0 | G96: =DBCS(クラスE!$C$21) | H96: =クラスE!N27 -> 0 | I96: =DBCS(クラスE!N26) | J96: =ASC(IF(クラスE!P26="",クラスE!O26,クラスE!P26))
A97: E | B97: =団体登録!$C$4 -> 0 | C97: =クラスE!$C$20 -> 0 | D97: =DBCS(クラスE!$C$19) | E97: =ASC(クラスE!$N$19) | F97: =クラスE!$C$22 -> 0 | G97: =DBCS(クラスE!$C$21) | H97: =クラスE!B29 -> 0 | I97: =DBCS(クラスE!B28) | J97: =ASC(IF(クラスE!D28="",クラスE!C28,クラスE!D28))
A98: E | B98: =団体登録!$C$4 -> 0 | C98: =クラスE!$C$20 -> 0 | D98: =DBCS(クラスE!$C$19) | E98: =ASC(クラスE!$N$19) | F98: =クラスE!$C$22 -> 0 | G98: =DBCS(クラスE!$C$21) | H98: =クラスE!E29 -> 0 | I98: =DBCS(クラスE!E28) | J98: =ASC(IF(クラスE!G28="",クラスE!F28,クラスE!G28))
A99: E | B99: =団体登録!$C$4 -> 0 | C99: =クラスE!$C$20 -> 0 | D99: =DBCS(クラスE!$C$19) | E99: =ASC(クラスE!$N$19) | F99: =クラスE!$C$22 -> 0 | G99: =DBCS(クラスE!$C$21) | H99: =クラスE!H29 -> 0 | I99: =DBCS(クラスE!H28) | J99: =ASC(IF(クラスE!J28="",クラスE!I28,クラスE!J28))
A100: E | B100: =団体登録!$C$4 -> 0 | C100: =クラスE!$C$20 -> 0 | D100: =DBCS(クラスE!$C$19) | E100: =ASC(クラスE!$N$19) | F100: =クラスE!$C$22 -> 0 | G100: =DBCS(クラスE!$C$21) | H100: =クラスE!K29 -> 0 | I100: =DBCS(クラスE!K28) | J100: =ASC(IF(クラスE!M28="",クラスE!L28,クラスE!M28))
A101: E | B101: =団体登録!$C$4 -> 0 | C101: =クラスE!$C$20 -> 0 | D101: =DBCS(クラスE!$C$19) | E101: =ASC(クラスE!$N$19) | F101: =クラスE!$C$22 -> 0 | G101: =DBCS(クラスE!$C$21) | H101: =クラスE!N29 -> 0 | I101: =DBCS(クラスE!N28) | J101: =ASC(IF(クラスE!P28="",クラスE!O28,クラスE!P28))
A102: E | B102: =団体登録!$C$4 -> 0 | C102: =クラスE!$C$20 -> 0 | D102: =DBCS(クラスE!$C$19) | E102: =ASC(クラスE!$N$19) | F102: =クラスE!$C$22 -> 0 | G102: =DBCS(クラスE!$C$21) | H102: =クラスE!B31 -> 0 | I102: =DBCS(クラスE!B30) | J102: =ASC(IF(クラスE!D30="",クラスE!C30,クラスE!D30))
A103: E | B103: =団体登録!$C$4 -> 0 | C103: =クラスE!$C$20 -> 0 | D103: =DBCS(クラスE!$C$19) | E103: =ASC(クラスE!$N$19) | F103: =クラスE!$C$22 -> 0 | G103: =DBCS(クラスE!$C$21) | H103: =クラスE!E31 -> 0 | I103: =DBCS(クラスE!E30) | J103: =ASC(IF(クラスE!G30="",クラスE!F30,クラスE!G30))
A104: E | B104: =団体登録!$C$4 -> 0 | C104: =クラスE!$C$20 -> 0 | D104: =DBCS(クラスE!$C$19) | E104: =ASC(クラスE!$N$19) | F104: =クラスE!$C$22 -> 0 | G104: =DBCS(クラスE!$C$21) | H104: =クラスE!H31 -> 0 | I104: =DBCS(クラスE!H30) | J104: =ASC(IF(クラスE!J30="",クラスE!I30,クラスE!J30))
A105: E | B105: =団体登録!$C$4 -> 0 | C105: =クラスE!$C$20 -> 0 | D105: =DBCS(クラスE!$C$19) | E105: =ASC(クラスE!$N$19) | F105: =クラスE!$C$22 -> 0 | G105: =DBCS(クラスE!$C$21) | H105: =クラスE!K31 -> 0 | I105: =DBCS(クラスE!K30) | J105: =ASC(IF(クラスE!M30="",クラスE!L30,クラスE!M30))
A106: E | B106: =団体登録!$C$4 -> 0 | C106: =クラスE!$C$20 -> 0 | D106: =DBCS(クラスE!$C$19) | E106: =ASC(クラスE!$N$19) | F106: =クラスE!$C$22 -> 0 | G106: =DBCS(クラスE!$C$21) | H106: =クラスE!N31 -> 0 | I106: =DBCS(クラスE!N30) | J106: =ASC(IF(クラスE!P30="",クラスE!O30,クラスE!P30))

Sheet 団体一覧
B1: 団体名 | C1: フリガナ | D1: 代表者氏名 | E1: フリガナ | F1: 郵便番号 | G1: 住所 | H1: 電話番号 | I1: PCアドレス | J1: 携帯番号 | K1: 携帯アドレス | L1: 備考
B2: =団体登録!C4 -> 0 | C2: =DBCS(団体登録!C3) | D2: =団体登録!C6 -> 0 | E2: =DBCS(団体登録!C5) | F2: =ASC(団体登録!C7) | G2: =団体登録!C8 -> 0 | H2: =ASC(団体登録!C9) | I2: =ASC(団体登録!C10) | J2: =ASC(団体登録!C11) | K2: =ASC(団体登録!C12) | L2: =団体登録!C13 -> 0
